BEGIN:VCALENDAR
VERSION:2.0
PRODID:-//Jose Halcón - ECPv6.9.0//NONSGML v1.0//EN
CALSCALE:GREGORIAN
METHOD:PUBLISH
X-ORIGINAL-URL:https://www.josehalcon.com
X-WR-CALDESC:Eventos para Jose Halcón
REFRESH-INTERVAL;VALUE=DURATION:PT1H
X-Robots-Tag:noindex
X-PUBLISHED-TTL:PT1H
BEGIN:VTIMEZONE
TZID:Atlantic/Canary
BEGIN:DAYLIGHT
TZOFFSETFROM:+0000
TZOFFSETTO:+0100
TZNAME:WEST
DTSTART:20250330T010000
END:DAYLIGHT
BEGIN:STANDARD
TZOFFSETFROM:+0100
TZOFFSETTO:+0000
TZNAME:WET
DTSTART:20251026T010000
END:STANDARD
END:VTIMEZONE
BEGIN:VEVENT
DTSTART;TZID=Atlantic/Canary:20251207T120000
DTEND;TZID=Atlantic/Canary:20251207T210000
DTSTAMP:20260422T160106
CREATED:20250923T104205Z
LAST-MODIFIED:20251015T171940Z
UID:231976-1765108800-1765141200@www.josehalcon.com
SUMMARY:La Fiesta del Año – 12º Aniversario Jose Halcón
DESCRIPTION:✨ La Fiesta del Año – 12º Aniversario Jose Halcón ✨\nEste 2025 celebramos 12 años acompañándote y lo hacemos a lo grande\, con un evento único que no te puedes perder. El próximo domingo 7 de diciembre\, de 12:00 a 21:00 horas\, te esperamos en la espectacular Finca La Perla (Anexo Agualand\, Maspalomas) para vivir un tardeo inolvidable. \n🎶 Disfruta de un cartel de lujo con las actuaciones de Pepe Benavente\, Los Aseres\, Pedro Afonso\, Yeray Socorro\, Yoel Díaz y Leyenda Joven\, además de la mejor música en cabina con los DJ Horacio Rojas\, Johan Party Max y la energía de Spiker & DJ Antonio Boada. Música en vivo\, animación y la mejor fiesta de Canarias en un solo lugar. \n🍴 Y porque una gran celebración merece lo mejor: comida y bebida durante 9 horas sin parar\, cortador de jamón de la mano de Geovani Almaza\, y 40 entradas de regalo para nuestras carrozas de carnaval\, además de muchas más sorpresas que harán de este aniversario una experiencia irrepetible. \n🎟️ Entrada: 60 € por persona. Plazas limitadas.👉 Asegura la tuya y sé parte de La Fiesta del Año.
URL:https://www.josehalcon.com/event/la-fiesta-del-ano-12o-aniversario-jose-halcon/
LOCATION:Finca La Perla\, Carr. Palmitos Park\, s/n\, Maspalomas\, Las Palmas\, 35100\, Spain
ATTACH;FMTTYPE=image/jpeg:https://www.josehalcon.com/wp-content/uploads/2025/09/fiesta-del-ano-jose-halcon-2025.jpg
ORGANIZER;CN="Carrozas Jose Halc%C3%B3n":MAILTO:info@josehalcon.com
END:VEVENT
END:VCALENDAR