BEGIN:VCALENDAR
VERSION:2.0
PRODID:-//Jose Halcón - ECPv6.9.0//NONSGML v1.0//EN
CALSCALE:GREGORIAN
METHOD:PUBLISH
X-ORIGINAL-URL:https://www.josehalcon.com
X-WR-CALDESC:Eventos para Jose Halcón
REFRESH-INTERVAL;VALUE=DURATION:PT1H
X-Robots-Tag:noindex
X-PUBLISHED-TTL:PT1H
BEGIN:VTIMEZONE
TZID:Atlantic/Canary
BEGIN:DAYLIGHT
TZOFFSETFROM:+0000
TZOFFSETTO:+0100
TZNAME:WEST
DTSTART:20260329T010000
END:DAYLIGHT
BEGIN:STANDARD
TZOFFSETFROM:+0100
TZOFFSETTO:+0000
TZNAME:WET
DTSTART:20261025T010000
END:STANDARD
END:VTIMEZONE
BEGIN:VEVENT
DTSTART;VALUE=DATE:20260213
DTEND;VALUE=DATE:20260214
DTSTAMP:20260422T233927
CREATED:20250922T175223Z
LAST-MODIFIED:20250922T205943Z
UID:231883-1770940800-1771027199@www.josehalcon.com
SUMMARY:Carroza Cabalgata de Tenerife 2026
DESCRIPTION:Descripción del Servicio\n\n\n\nEmpresa número uno en Calidad y Seriedad en venta de plazas y organización de Carrozas de Carnaval. \n¿Listo para vivir una experiencia única en el Carnaval? Te garantizamos un desfile lleno de diversión\, color y momentos inolvidables. Con una década de excelencia y dedicación\, nuestro equipo se enorgullece de ofrecerte las mejores plazas para disfrutar de esta celebración desde la comodidad y seguridad de nuestras carrozas. \nEn esta cabalgata ofrecemos gran variedad bebidas de primeras marcas durante el trayecto. \nINCLUYE: \n–    Bebida\n–    Picoteo\n–    Cortador de Jamón\n–    Personal cualificado\n–    Camareros\n–    Seguridad\n–    Buena Música Actual y variada\n–    Servicios \nLas carrozas cumplen las normativas para dicha cabalgata y vigentes por ley.\nCalidad total en nuestras carrozas.\nEl recorrido y el horario pueden estar sujetos a variaciones. \nCONDICIONES: \n– No se permiten menores de 18 años.\n– No incluye los disfraces.\n– Las entradas son intransferibles debido al seguro contratado que llevan asignado por DNI.\n– Las fecha puede ser modificada por la organización.\n– La empresa no se hace responsable de la cancelación del evento por el Ayuntamiento\, por causa de fuerza mayor como la meteorológica\, seguridad del evento\, sanitarias\, etc\, no será posible la devolución del importe de las entradas.
URL:https://www.josehalcon.com/event/carroza-cabalgata-de-tenerife-2026/
ATTACH;FMTTYPE=image/png:https://www.josehalcon.com/wp-content/uploads/2025/09/carroza-carnaval-tenerife-2026.png
ORGANIZER;CN="Carrozas Jose Halc%C3%B3n":MAILTO:info@josehalcon.com
END:VEVENT
BEGIN:VEVENT
DTSTART;VALUE=DATE:20260217
DTEND;VALUE=DATE:20260218
DTSTAMP:20260422T233927
CREATED:20250922T174307Z
LAST-MODIFIED:20250922T205846Z
UID:231879-1771286400-1771372799@www.josehalcon.com
SUMMARY:Carroza Cabalgata Infantil Las Palmas 2026
DESCRIPTION:Descripción del Servicio\n\n\n\nEmpresa número uno en Calidad y Seriedad en Gran Canaria en venta de plazas y organización de Carrozas de Carnaval. \n¿Listo para vivir una experiencia única en el Carnaval? Te garantizamos un desfile lleno de diversión\, color y momentos inolvidables. Con una década de excelencia y dedicación\, nuestro equipo se enorgullece de ofrecerte las mejores plazas para disfrutar de esta celebración desde la comodidad y seguridad de nuestras carrozas. \nEn esta cabalgata ofrecemos gran variedad bebidas de primeras marcas durante el trayecto. \nINCLUYE: \n–    Bebida\n–    Personal cualificado\n–    Camareros\n–    Seguridad\n–    Buena Música Actual y variada\n–    Servicios \nLas carrozas cumplen las normativas para dicha cabalgata y vigentes por ley.\nCalidad total en nuestras carrozas.\nEl recorrido y el horario pueden estar sujetos a variaciones. \nCONDICIONES: \n– Es posible la asistencia de niños siempre y cuando que este acompañados de un adulto.\n– Edad Mínima Permitida 6 años.\n– No incluye los disfraces.\n– Las entradas son intransferibles debido al seguro contratado que llevan asignado por DNI.\n– Las fecha puede ser modificada por la organización.\n– La empresa no se hace responsable de la cancelación del evento por el Ayuntamiento\, por causa de fuerza mayor como la meteorológica\, seguridad del evento\, sanitarias\, etc\, no será posible la devolución del importe de las entradas.
URL:https://www.josehalcon.com/event/carroza-cabalgata-infantil-las-palmas-2026/
ATTACH;FMTTYPE=image/png:https://www.josehalcon.com/wp-content/uploads/2025/09/carroza-infantil-las-palmas-2026.png
ORGANIZER;CN="Carrozas Jose Halc%C3%B3n":MAILTO:info@josehalcon.com
END:VEVENT
BEGIN:VEVENT
DTSTART;VALUE=DATE:20260228
DTEND;VALUE=DATE:20260301
DTSTAMP:20260422T233927
CREATED:20250922T174327Z
LAST-MODIFIED:20260225T210302Z
UID:231877-1772236800-1772323199@www.josehalcon.com
SUMMARY:Carroza Cabalgata de Las Palmas 2026
DESCRIPTION:Descripción del Servicio\n\n\nEmpresa número 1 en Calidad y Seriedad en Gran Canaria en la venta de plazas y organización de Carrozas de Carnaval. \n¿Estás listo/a para vivir una experiencia única en el Carnaval? 🎉 \n🎰 En 2026\, la gran alegoría del Carnaval de Las Palmas será Las Vegas. Súbete a nuestra carroza y disfruta el Carnaval como nunca antes: color\, música\, alegría y momentos inolvidables. \nCon más de una década de experiencia y dedicación\, nos enorgullece ofrecerte las mejores plazas para que vivas esta fiesta desde la comodidad y seguridad de nuestras carrozas. \nAdemás\, durante el trayecto podrás disfrutar de una amplia variedad de bebidas de primeras marcas. \n\nINCLUYE:\n–    Bebida\n–    Picoteo\n–    Cortador de Jamón\n–    Personal cualificado\n–    Camareros\n–    Seguridad\n–    Buena Música Actual y variada\n–    Servicios \nLas carrozas cumplen las normativas para dicha cabalgata y vigentes por ley.\nCalidad total en nuestras carrozas. \nCONDICIONES:\n–  No se permiten menores de 18 años.\n–  No incluye los disfraces.\n–  Las entradas son intransferibles debido al seguro contratado que llevan asignado por DNI.\n–  El recorrido y el horario pueden estar sujetos a variaciones por la organización.\n–  La empresa no se hace responsable de la cancelación del evento por el Ayuntamiento\, por causa de fuerza mayor como la meteorológica\, seguridad del evento\, sanitarias\, etc\, no será posible la devolución del importe de las entradas.
URL:https://www.josehalcon.com/event/carroza-cabalgata-de-las-palmas-2026/
ATTACH;FMTTYPE=image/png:https://www.josehalcon.com/wp-content/uploads/2025/09/carroza-carnaval-las-palmas-2026.png
ORGANIZER;CN="Carrozas Jose Halc%C3%B3n":MAILTO:info@josehalcon.com
END:VEVENT
BEGIN:VEVENT
DTSTART;VALUE=DATE:20260314
DTEND;VALUE=DATE:20260315
DTSTAMP:20260422T233927
CREATED:20260225T202604Z
LAST-MODIFIED:20260225T203532Z
UID:232302-1773446400-1773532799@www.josehalcon.com
SUMMARY:Carroza Cabalgata de Vecindario 2026
DESCRIPTION:Descripción del Servicio\n\n\n\nEmpresa número uno en Calidad y Seriedad en Gran Canaria en venta de plazas y organización de Carrozas de Carnaval. \n¿Listo para vivir una experiencia única en el Carnaval? Te garantizamos un desfile lleno de diversión\, color y momentos inolvidables. Con una década de excelencia y dedicación\, nuestro equipo se enorgullece de ofrecerte las mejores plazas para disfrutar de esta celebración desde la comodidad y seguridad de nuestras carrozas. \nEn esta cabalgata ofrecemos gran variedad bebidas de primeras marcas durante el trayecto. \nLa salida de dichas carrozas será en esquina Av de Canarias con Fernando Guanarteme\, a la altura de la Cruz Roja. \nDicha cabalgata dura aproximadamente de las 17:00 horas  pasando por Av de Canarias. \nINCLUYE: \n–    Bebida\n–    Personal cualificado\n–    Camareros\n–    Seguridad\n–    Buena Música Actual y variada\n–    Servicios \nLas carrozas cumplen las normativas para dicha cabalgata y vigentes por ley.\nCalidad total en nuestras carrozas.\nEl recorrido y el horario pueden estar sujetos a variaciones. \nCONDICIONES: \n– Es posible la asistencia de niños siempre y cuando estén acompañados de un adulto.\n– Edad Mínima Permitida 6 años.\n– No incluye los disfraces.\n– Las entradas son intransferibles debido al seguro contratado que llevan asignado por DNI.\n– Las fecha puede ser modificada por la organización.\n– La empresa no se hace responsable de la cancelación del evento por el Ayuntamiento\, por causa de fuerza mayor como la meteorológica\, seguridad del evento\, sanitarias\, etc\, no será posible la devolución del importe de las entradas.
URL:https://www.josehalcon.com/event/carroza-cabalgata-de-vecindario-2026/
ATTACH;FMTTYPE=image/png:https://www.josehalcon.com/wp-content/uploads/2026/02/carroza-carnaval-vecindario-2026.png
ORGANIZER;CN="Carrozas Jose Halc%C3%B3n":MAILTO:info@josehalcon.com
END:VEVENT
BEGIN:VEVENT
DTSTART;VALUE=DATE:20260328
DTEND;VALUE=DATE:20260329
DTSTAMP:20260422T233927
CREATED:20250922T170151Z
LAST-MODIFIED:20260319T233224Z
UID:231870-1774656000-1774742399@www.josehalcon.com
SUMMARY:Carroza Cabalgata de Carrizal 2026
DESCRIPTION:Descripción del Servicio\n\n\n\nEmpresa número uno en Calidad y Seriedad en Gran Canaria en venta de plazas y organización de Carrozas de Carnaval. \n¿Listo para vivir una experiencia única en el Carnaval? Te garantizamos un desfile lleno de diversión\, color y momentos inolvidables. Con una década de excelencia y dedicación\, nuestro equipo se enorgullece de ofrecerte las mejores plazas para disfrutar de esta celebración desde la comodidad y seguridad de nuestras carrozas. \nEn esta cabalgata ofrecemos gran variedad bebidas de primeras marcas durante el trayecto. \nLa colocación de dichas carrozas será en la carretera desde la salida de la Jurada. \nDicha cabalgata dura aproximadamente desde las 17:00 horas pasando por  el casco antiguo de Carrizal\, calles adyacentes\, Carlos V y bajada a la Playa del Burrero. \nINCLUYE: \n–    Bebida\n–    Picoteo\n–    Personal cualificado\n–    Camareros\n–    Seguridad\n–    Buena Música Actual y variada\n–    Servicios \nLas carrozas cumplen las normativas para dicha cabalgata y vigentes por ley.\nCalidad total en nuestras carrozas.\nEl recorrido y el horario pueden estar sujetos a variaciones. \nCONDICIONES: \n– Es posible la asistencia de niños siempre y cuando que este acompañados de un adulto.\n– Edad Mínima Permitida 6 años.\n– No incluye los disfraces.\n– Las entradas son intransferibles debido al seguro contratado que llevan asignado por DNI.\n– Las fecha puede ser modificada por la organización.\n– La empresa no se hace responsable de la cancelación del evento por el Ayuntamiento\, por causa de fuerza mayor como la meteorológica\, seguridad del evento\, sanitarias\, etc\, no será posible la devolución del importe de las entradas.
URL:https://www.josehalcon.com/event/carroza-cabalgata-de-carrizal-2026/
ATTACH;FMTTYPE=image/png:https://www.josehalcon.com/wp-content/uploads/2025/09/carroza-carnaval-carrizal-2026-1.png
ORGANIZER;CN="Carrozas Jose Halc%C3%B3n":MAILTO:info@josehalcon.com
END:VEVENT
BEGIN:VEVENT
DTSTART;VALUE=DATE:20260328
DTEND;VALUE=DATE:20260329
DTSTAMP:20260422T233927
CREATED:20250922T171153Z
LAST-MODIFIED:20260319T231903Z
UID:231874-1774656000-1774742399@www.josehalcon.com
SUMMARY:Carroza Cabalgata de Maspalomas 2026
DESCRIPTION:Descripción del Servicio\n\n\n\nEmpresa número 1 en Calidad y Seriedad en Gran Canaria en la venta de plazas y organización de Carrozas de Carnaval. \n¿Estás listo/a para vivir una experiencia única en el Carnaval? 🎉 \n🎪 En 2026\, la gran alegoría del Carnaval de Maspalomas será El Circo. Súbete a nuestra carroza y disfruta el Carnaval como nunca antes: color\, música\, alegría y momentos inolvidables. \nCon más de una década de experiencia y dedicación\, nos enorgullece ofrecerte las mejores plazas para que vivas esta fiesta desde la comodidad y seguridad de nuestras carrozas. \nAdemás\, durante el trayecto podrás disfrutar de una amplia variedad de bebidas de primeras marcas. \nLa colocación de dichas carrozas será en la carretera desde la salida avenida Madrid y sus calles adyacentes. Dicha cabalgata dura aproximadamente de las 17:00 horas por las calles avenida Madrid\, Avenida de Italia\, Av Gran Canaria\, finalizando por avenida de Tirajana. \nINCLUYE: \n–    Bebida\n–    Picoteo\n–    Cortador de Jamón\n–    Personal cualificado\n–    Camareros\n–    Seguridad\n–    Buena Música Actual y variada\n–    Servicios \nLas carrozas cumplen las normativas para dicha cabalgata y vigentes por ley.\nCalidad total en nuestras carrozas.\nEl recorrido y el horario pueden estar sujetos a variaciones. \nCONDICIONES: \n– No se permiten menores de 18 años.\n– No incluye los disfraces.\n– Las entradas son intransferibles debido al seguro contratado que llevan asignado por DNI.\n– Las fecha puede ser modificada por la organización.\n– La empresa no se hace responsable de la cancelación del evento por el Ayuntamiento\, por causa de fuerza mayor como la meteorológica\, seguridad del evento\, sanitarias\, etc\, no será posible la devolución del importe de las entradas.
URL:https://www.josehalcon.com/event/carroza-cabalgata-de-maspalomas-2026/
ATTACH;FMTTYPE=image/png:https://www.josehalcon.com/wp-content/uploads/2025/09/carroza-carnaval-maspalomas-2026.png
ORGANIZER;CN="Carrozas Jose Halc%C3%B3n":MAILTO:info@josehalcon.com
END:VEVENT
BEGIN:VEVENT
DTSTART;VALUE=DATE:20260509
DTEND;VALUE=DATE:20260510
DTSTAMP:20260422T233927
CREATED:20250922T180139Z
LAST-MODIFIED:20250922T205132Z
UID:231886-1778284800-1778371199@www.josehalcon.com
SUMMARY:Carroza Maspalomas Pride 2026
DESCRIPTION:Descripción del Servicio\n\n\nEmpresa número uno en Calidad y Seriedad en Gran Canaria en venta de plazas y organización de Carrozas. \n¿Listo/a para vivir una experiencia única en El Desfile Pride de Maspalomas 2026? Te garantizamos un desfile lleno de diversión\, color y momentos inolvidables. Con una década de excelencia y dedicación\, nuestro equipo se enorgullece de ofrecerte las mejores plazas para disfrutar de esta celebración desde la comodidad y seguridad de nuestras carrozas. \nEn esta carroza ofrecemos gran variedad bebidas de primeras marcas durante el trayecto. \nDicha cabalgata dura aproximadamente desde las 16:00 horas pasando por Avenida de Tirajana – Avenida de Gran Canaria – Avenida de España – Entrada principal de Yumbo. \nINCLUYE: \n–    Bebida\n–    Picoteo\n–    Personal cualificado\n–    Camareros\n–    Seguridad\n–    Buena Música Actual y variada\n–    Servicios \nLas carrozas cumplen las normativas para dicho cabalgata y vigentes por ley. \nCalidad total en nuestras carrozas. \nEl recorrido y el horario pueden estar sujetos a variaciones. \nCONDICIONES: \n– No se permiten menores de 18 años.\n– Las entradas son intransferibles debido al seguro contratado que llevan asignado por DNI.\n– Las fecha puede ser modificada por la organización.\n– La empresa no se hace responsable de la cancelación del evento por el Ayuntamiento\, por causa de fuerza mayor como la meteorológica\, seguridad del evento\, sanitarias\, etc\, no será posible la devolución del importe de las entradas.
URL:https://www.josehalcon.com/event/carroza-maspalomas-pride-2026/
ATTACH;FMTTYPE=image/png:https://www.josehalcon.com/wp-content/uploads/2025/09/desfile-maspalomas-pride-2026.png
ORGANIZER;CN="Carrozas Jose Halc%C3%B3n":MAILTO:info@josehalcon.com
END:VEVENT
END:VCALENDAR